BEGIN:VCALENDAR
VERSION:2.0
PRODID:-//ChamberMaster//Event Calendar 2.0//EN
METHOD:PUBLISH
X-PUBLISHED-TTL:P3D
REFRESH-INTERVAL:P3D
CALSCALE:GREGORIAN
BEGIN:VEVENT
DTSTART:20180706T010000Z
DTEND:20180706T030000Z
X-MICROSOFT-CDO-ALLDAYEVENT:FALSE
SUMMARY:Open Mic Poetry
DESCRIPTION:Come to read your original poetry aloud\, or maybe other authors' work you are moved to share. Come to listen\, come as moral support\, or just come as you are.
X-ALT-DESC;FMTTYPE=text/html:Come to read your original poetry aloud\, or maybe other authors&rsquo\; work you are moved to share. Come to listen\, come as moral support\, or just come as you are.
LOCATION:Fort Bragg Library 499 Laurel St Fort Bragg\, CA 95437
UID:e.2883.9082
SEQUENCE:3
DTSTAMP:20260423T040513Z
URL:http://mendocinocoast.smartcms.site/events/details/open-mic-poetry-9082
END:VEVENT

END:VCALENDAR
