BEGIN:VCALENDAR
VERSION:2.0
PRODID:-//ChamberMaster//Event Calendar 2.0//EN
METHOD:PUBLISH
X-PUBLISHED-TTL:P3D
REFRESH-INTERVAL:P3D
CALSCALE:GREGORIAN
BEGIN:VEVENT
DTSTART:20190720T180000Z
DTEND:20190720T230000Z
X-MICROSOFT-CDO-ALLDAYEVENT:FALSE
SUMMARY:Old Vinyl Record Sale
DESCRIPTION:Before doors open on July 20th at 4:00 PM for DJ music and dancing\, an old vinyl record sale will occur in the dining room at the Fort Bragg - Inglenook Community Center. The DJs are bringing their collections of old records and will sell them at "rummage sale" prices from 11:00 AM to 4:00 PM. The vinyl record sale is open to the public for which there is no entrance fee. Also\, a few records will be left on sale during the DeeJay Explosion event. All proceeds will go towards re-roofing the Fort Bragg - Inglenook Community Center.
X-ALT-DESC;FMTTYPE=text/html:Before doors open on July 20th at 4:00 PM for DJ music and dancing\, an old vinyl record sale will occur in the dining room at the Fort Bragg - Inglenook Community Center. The DJs are bringing their collections of old records and will sell them at &ldquo\;rummage sale&rdquo\; prices from 11:00 AM to 4:00 PM. The vinyl record sale is open to the public for which there is no entrance fee. Also\, a few records will be left on sale during the DeeJay Explosion event. All proceeds will go towards re-roofing the Fort Bragg - Inglenook Community Center.
LOCATION:26500 N. HWY 1 Fort Bragg\, CA (six miles north of Fort Bragg near Inglenook
UID:e.2883.11845
SEQUENCE:3
DTSTAMP:20260422T080838Z
URL:http://mendocinocoast.smartcms.site/events/details/old-vinyl-record-sale-11845
END:VEVENT

END:VCALENDAR
