BEGIN:VCALENDAR
VERSION:2.0
PRODID:-//ChamberMaster//Event Calendar 2.0//EN
METHOD:PUBLISH
X-PUBLISHED-TTL:P3D
REFRESH-INTERVAL:P3D
CALSCALE:GREGORIAN
BEGIN:VEVENT
DTSTART:20191030T013000Z
DTEND:20191030T013000Z
X-MICROSOFT-CDO-ALLDAYEVENT:FALSE
SUMMARY:October Science Talk
DESCRIPTION:"Who & What has Washed Ashore\, 2019" Beach Response Stories from Noyo Center Stranding Coordinator\, Sarah Grimes
X-ALT-DESC;FMTTYPE=text/html:&quot\;Who &amp\; What has Washed Ashore\, 2019&quot\; Beach Response Stories from Noyo Center Stranding Coordinator\, Sarah Grimes
LOCATION:
UID:e.2883.12440
SEQUENCE:3
DTSTAMP:20260422T023319Z
URL:http://mendocinocoast.smartcms.site/events/details/october-science-talk-12440
END:VEVENT

END:VCALENDAR
