BEGIN:VCALENDAR
VERSION:2.0
PRODID:-//ChamberMaster//Event Calendar 2.0//EN
METHOD:PUBLISH
X-PUBLISHED-TTL:P3D
REFRESH-INTERVAL:P3D
CALSCALE:GREGORIAN
BEGIN:VEVENT
DTSTART:20181004T160000Z
DTEND:20181004T210000Z
X-MICROSOFT-CDO-ALLDAYEVENT:FALSE
SUMMARY:NORTH COAST PROCUREMENT EXPO MAIN EVENT - EUREKA
DESCRIPTION:Small and Diverse businesses will have the opportunity to connect with local\, state\, and federal agencies. This event will include: exhibiting and networking. Confirmed Agencies & Resource Partners: -Caltrans -CA Dept of General Services (DGS) -CA Highway Patrol (CHP) -US Army Corps -US General Services Administration (GSA) -CA Dept of Corrections & Rehabilitation -Humboldt State University -Norcal PTAC -Caltrans DBE Support Program -And more to come!
X-ALT-DESC;FMTTYPE=text/html:Small and Diverse businesses will have the opportunity to connect with local\, state\, and federal agencies. This event will include: exhibiting and networking. Confirmed Agencies &amp\; Resource Partners: -Caltrans -CA Dept of General Services (DGS) -CA Highway Patrol (CHP) -US Army Corps -US General Services Administration (GSA) -CA Dept of Corrections &amp\; Rehabilitation -Humboldt State University -Norcal PTAC -Caltrans DBE Support Program -And more to come!
LOCATION:Sequoia Conference Center 901 Myrtle Avenue Eureka
UID:e.2883.9377
SEQUENCE:3
DTSTAMP:20260422T225138Z
URL:http://mendocinocoast.smartcms.site/events/details/north-coast-procurement-expo-main-event-eureka-9377
END:VEVENT

END:VCALENDAR
