BEGIN:VCALENDAR
VERSION:2.0
PRODID:-//ChamberMaster//Event Calendar 2.0//EN
METHOD:PUBLISH
X-PUBLISHED-TTL:P3D
REFRESH-INTERVAL:P3D
CALSCALE:GREGORIAN
BEGIN:VEVENT
DTSTART:20161012T130000Z
DTEND:20161012T140000Z
X-MICROSOFT-CDO-ALLDAYEVENT:FALSE
SUMMARY:Nine Lessons and a Carol
DESCRIPTION:A community holiday services sponsored by Shepherd of the Sea Episcopal-Lutheran Mission. Program follows the format offered since 1919 at King's College Chapel\, Cambridge\, England. Audience will join in singing the nine carols\, clergy and lay readers from all coast faith communities. Seating limited\, come early\, bring flashlights for walking. Donations welcome and will support South Coast Crisis Aid.Â Coleman Hall. Free.
X-ALT-DESC;FMTTYPE=text/html:<p>A community holiday services sponsored by Shepherd of the Sea Episcopal-Lutheran Mission. Program follows the format offered since 1919 at King's College Chapel\, Cambridge\, England. Audience will join in singing the nine carols\, clergy and lay readers from all coast faith communities. Seating limited\, come early\, bring flashlights for walking. Donations welcome and will support South Coast Crisis Aid.</p><p>Â </p><p>Coleman Hall. Free.</p>
LOCATION:Gualala Arts Center
UID:e.2883.1041
SEQUENCE:3
DTSTAMP:20260424T161308Z
URL:http://mendocinocoast.smartcms.site/events/details/nine-lessons-and-a-carol-10-12-2016-1041
END:VEVENT

END:VCALENDAR
