BEGIN:VCALENDAR
VERSION:2.0
PRODID:-//ChamberMaster//Event Calendar 2.0//EN
METHOD:PUBLISH
X-PUBLISHED-TTL:P3D
REFRESH-INTERVAL:P3D
CALSCALE:GREGORIAN
BEGIN:VEVENT
DTSTART;VALUE=DATE:20170419
DTEND;VALUE=DATE:20170420
TRANSP:TRANSPARENT
X-MICROSOFT-CDO-ALLDAYEVENT:TRUE
SUMMARY:Nikolas Kozak\, â€œMendocino Circa 1967â€ Exhibition
DESCRIPTION:Longtime Mendocino Coast resident Nikolaz Kozak exhibits his photography of Mendocino from 1967. Second Saturday Gallery Reception:May 13\, 5pm-8pmFree admissionÂ Mendocino Art Center hosts a free Second Saturday Artists Reception each month. Enjoy snacks and wine\, and meet the exhibiting artists.
X-ALT-DESC;FMTTYPE=text/html:<p>Longtime Mendocino Coast resident Nikolaz Kozak exhibits his photography of Mendocino from 1967.</p><p><strong> </strong></p><p><strong>Second Saturday Gallery Reception:</strong></p><p><strong>May 13\, 5pm-8pm</strong></p><p>Free admission</p><p>Â </p><p>Mendocino Art Center hosts a free Second Saturday Artists Reception each month. Enjoy snacks and wine\, and meet the exhibiting artists<strong>.</strong></p>
LOCATION:Mendocino Art Center
UID:e.2883.1192
SEQUENCE:3
DTSTAMP:20260424T061040Z
URL:http://mendocinocoast.smartcms.site/events/details/nikolas-kozak-&#226;-œmendocino-circa-1967&#226;-exhibition-04-19-2017-1192
END:VEVENT

END:VCALENDAR
