BEGIN:VCALENDAR
VERSION:2.0
PRODID:-//ChamberMaster//Event Calendar 2.0//EN
METHOD:PUBLISH
X-PUBLISHED-TTL:P3D
REFRESH-INTERVAL:P3D
CALSCALE:GREGORIAN
BEGIN:VEVENT
DTSTART:20191031T020000Z
DTEND:20191031T040000Z
X-MICROSOFT-CDO-ALLDAYEVENT:FALSE
SUMMARY:Nightmare On Elm Street - Oct 30th\, Classic Film Series
DESCRIPTION:Wed Oct 30th @ 7:00PM\, Halloween Eve\, time to join your neighbors at the cinema and get scared silly watching Nightmare On Elm Street. Mendocino Film Festival Classic Film Series presents this 1984 horror masterpiece by Wes Craven\, featuring the film debut of Johnny Depp. This film contains some of cinemas most original scare set-ups and plot twists and introduced one of the most unforgettable\, creepy stalker's in cinema history - Freddy Kruger.\n\nTickets are $10 cash only and available now at Coast Cinemas or online at EVENTBRITE
X-ALT-DESC;FMTTYPE=text/html:Wed Oct 30th @ 7:00PM\, <strong>Halloween Eve</strong>\, time to join your neighbors at the cinema and get scared silly watching <em>Nightmare On Elm Street</em>. Mendocino Film Festival Classic Film Series presents this 1984 horror masterpiece by Wes Craven\, featuring the film debut of Johnny Depp. This film contains some of cinemas most original scare set-ups and plot twists and introduced one of the most unforgettable\, creepy stalker&#39\;s in cinema history - Freddy Kruger.<br />\nTickets are $10 cash only and available now at Coast Cinemas or online at <a href="https://www.eventbrite.com/e/nightmare-on-elm-street-classic-film-series-coast-cinemas-on-1030-tickets-72730674405">EVENTBRITE</a>
LOCATION:Coast Cinemas 135 S Franklin Street Fort Bragg\, CA
UID:e.2883.12435
SEQUENCE:3
DTSTAMP:20260422T025540Z
URL:http://mendocinocoast.smartcms.site/events/details/nightmare-on-elm-street-oct-30th-classic-film-series-12435
END:VEVENT

END:VCALENDAR
