BEGIN:VCALENDAR
VERSION:2.0
PRODID:-//ChamberMaster//Event Calendar 2.0//EN
METHOD:PUBLISH
X-PUBLISHED-TTL:P3D
REFRESH-INTERVAL:P3D
CALSCALE:GREGORIAN
BEGIN:VEVENT
DTSTART:20170708T000000Z
DTEND:20170708T230000Z
X-MICROSOFT-CDO-ALLDAYEVENT:FALSE
SUMMARY:Nick And The Lino-Cutters
DESCRIPTION:A rockin' pop-up art show with printmaker Nicholas Collins and the artists of Art Explorers!
X-ALT-DESC;FMTTYPE=text/html:<span style="font-family: Verdana\, Arial\; font-size: 11px\;">A rockin&#39\; pop-up art show with printmaker Nicholas Collins and the artists of Art Explorers!</span>
LOCATION:Town Hall in Fort Bragg
UID:e.2883.1526
SEQUENCE:3
DTSTAMP:20260424T011246Z
URL:http://mendocinocoast.smartcms.site/events/details/nick-and-the-lino-cutters-1526
END:VEVENT

END:VCALENDAR
