BEGIN:VCALENDAR
VERSION:2.0
PRODID:-//ChamberMaster//Event Calendar 2.0//EN
METHOD:PUBLISH
X-PUBLISHED-TTL:P3D
REFRESH-INTERVAL:P3D
CALSCALE:GREGORIAN
BEGIN:VEVENT
DTSTART:20180101T033000Z
DTEND:20180101T090000Z
X-MICROSOFT-CDO-ALLDAYEVENT:FALSE
SUMMARY:New Years Eve Dinner & Dance
DESCRIPTION:Join us for our Annual New Years Eve Dinner & Party\, The Ledford House Restaurant wil be serving a multi course french inspired menu starting at 7:30 and ringing in the new year with the Terry Simcik Band & Sparkles.
X-ALT-DESC;FMTTYPE=text/html:Join us for our Annual New Years Eve Dinner &amp\; Party\, The Ledford House Restaurant wil be serving a multi course french inspired menu starting at 7:30 and ringing in the new year with the Terry Simcik Band &amp\; Sparkles.
LOCATION:The Ledford House Restaurant 3000 N. Highway One Albion Ca.
UID:e.2883.5475
SEQUENCE:3
DTSTAMP:20260423T140929Z
URL:http://mendocinocoast.smartcms.site/events/details/new-years-eve-dinner-dance-5475
END:VEVENT

END:VCALENDAR
