BEGIN:VCALENDAR
VERSION:2.0
PRODID:-//ChamberMaster//Event Calendar 2.0//EN
METHOD:PUBLISH
X-PUBLISHED-TTL:P3D
REFRESH-INTERVAL:P3D
CALSCALE:GREGORIAN
BEGIN:VEVENT
DTSTART:20180721T000000Z
DTEND:20180721T020000Z
X-MICROSOFT-CDO-ALLDAYEVENT:FALSE
SUMMARY:New Orleans Dinner
DESCRIPTION:New Orleans Dinner featuring Cajun and Creole specialties prior to the Pine Leaf Boys concert at the Music Festival Tent. Fundraiser for the Mendocino Coast Humane Society Live Auction and Raffle
X-ALT-DESC;FMTTYPE=text/html:New Orleans Dinner featuring Cajun and Creole specialties prior to the Pine Leaf Boys concert at the Music Festival Tent. Fundraiser for the Mendocino Coast Humane Society Live Auction and Raffle
LOCATION:Garden Room at the Mendocino Hotel
UID:e.2883.8776
SEQUENCE:3
DTSTAMP:20260423T040648Z
URL:http://mendocinocoast.smartcms.site/events/details/new-orleans-dinner-8776
END:VEVENT

END:VCALENDAR
