BEGIN:VCALENDAR
VERSION:2.0
PRODID:-//ChamberMaster//Event Calendar 2.0//EN
METHOD:PUBLISH
X-PUBLISHED-TTL:P3D
REFRESH-INTERVAL:P3D
CALSCALE:GREGORIAN
BEGIN:VEVENT
DTSTART:20191102T190000Z
DTEND:20191102T230000Z
X-MICROSOFT-CDO-ALLDAYEVENT:FALSE
SUMMARY:Natural Expressions: Art Inspired by Mendocino County Exhibit Opening
DESCRIPTION:From the Mendocino County Museum's permanent collection\, Natural Expressions: Art Inspired by Mendocino County exhibit features arts and crafts showcasing the beauty and diversity of Mendocino County's landscapes and resources. The mixed media exhibit includes paintings\, fiber art\, and various crafts made from Mendocino County's rich natural resources such as mushrooms\, driftwood\, shells\, redwood\, and leather. Works from beloved Mendocino County artists such as Lorenzo Latimer\, Grace Hudson\, and Mark Walker will be on display. In addition\, nature inspired weaving\, quilting\, woodworking\, and leather working will be exhibited. To celebrate the new exhibit opening\, the Museum will offer FREE admission on Saturday\, November 2\, 2019. Visitors will be invited to participate in a FREE nature inspired art craft from 1:00 p.m.   3:00 p.m. Natural Expressions will be showing November 2\, 2019 - March 15\, 2020.
X-ALT-DESC;FMTTYPE=text/html:From the Mendocino County Museum&rsquo\;s permanent collection\, Natural Expressions: Art Inspired by Mendocino County exhibit features arts and crafts showcasing the beauty and diversity of Mendocino County&rsquo\;s landscapes and resources. The mixed media exhibit includes paintings\, fiber art\, and various crafts made from Mendocino County&rsquo\;s rich natural resources such as mushrooms\, driftwood\, shells\, redwood\, and leather. Works from beloved Mendocino County artists such as Lorenzo Latimer\, Grace Hudson\, and Mark Walker will be on display. In addition\, nature inspired weaving\, quilting\, woodworking\, and leather working will be exhibited. To celebrate the new exhibit opening\, the Museum will offer FREE admission on Saturday\, November 2\, 2019. Visitors will be invited to participate in a FREE nature inspired art craft from 1:00 p.m. &ndash\; 3:00 p.m. Natural Expressions will be showing November 2\, 2019 - March 15\, 2020.
LOCATION:Mendocino County Museum 400 E. Commercial St. Willits\, CA 95490
UID:e.2883.12446
SEQUENCE:3
DTSTAMP:20260422T011729Z
URL:http://mendocinocoast.smartcms.site/events/details/natural-expressions-art-inspired-by-mendocino-county-exhibit-opening-12446
END:VEVENT

END:VCALENDAR
