BEGIN:VCALENDAR
VERSION:2.0
PRODID:-//ChamberMaster//Event Calendar 2.0//EN
METHOD:PUBLISH
X-PUBLISHED-TTL:P3D
REFRESH-INTERVAL:P3D
CALSCALE:GREGORIAN
BEGIN:VEVENT
DTSTART:20161012T190000Z
DTEND:20161012T150000Z
X-MICROSOFT-CDO-ALLDAYEVENT:FALSE
SUMMARY:Native Arts Expo & Concert
DESCRIPTION:Native Arts Expo and concert by blues band "Twice As Good". In addition to the Native American Arts Exhibit this month\, Gualala Arts is excited to have Native American artists  come together to showcase their talents and educate the general public  on the broad scope of Native American artistic expression\, including the  struggles they face as modern native peoples and professionals in this  Native Art Expo. Arts\, discussion\, vendors\, poetry\, music. Tickets are $5 for expo\; $10 for concert\, both plus $5 day of event. Purchase tickets at BrownPaperTickets.com\, Gualala Arts Center\, Dolphin Gallery.
X-ALT-DESC;FMTTYPE=text/html:<p>Native Arts Expo and concert by blues band "Twice As Good". In addition to the <strong><a href="http://gualalaarts.org/2016/10/native-art-expo/">Native American Arts Exhibit</a></strong> this month\, Gualala Arts is excited to have Native American artists  come together to showcase their talents and educate the general public  on the broad scope of Native American artistic expression\, including the  struggles they face as modern native peoples and professionals in this  Native Art Expo. Arts\, discussion\, vendors\, poetry\, music. Tickets are $5 for expo\; $10 for concert\, both plus $5 day of event. Purchase tickets at BrownPaperTickets.com\, Gualala Arts Center\, Dolphin Gallery.</p>
LOCATION:Gualala Arts Center
UID:e.2883.1035
SEQUENCE:3
DTSTAMP:20260424T160533Z
URL:http://mendocinocoast.smartcms.site/events/details/native-arts-expo-concert-10-12-2016-1035
END:VEVENT

END:VCALENDAR
