BEGIN:VCALENDAR
VERSION:2.0
PRODID:-//ChamberMaster//Event Calendar 2.0//EN
METHOD:PUBLISH
X-PUBLISHED-TTL:P3D
REFRESH-INTERVAL:P3D
CALSCALE:GREGORIAN
BEGIN:VEVENT
DTSTART:20180808T000000Z
DTEND:20180808T020000Z
X-MICROSOFT-CDO-ALLDAYEVENT:FALSE
SUMMARY:National Night Out
DESCRIPTION:National Night Out in Fort Bragg will be held at Bainbridge Park from 5-7 PM. Please join us to enjoy some food and get to know your neighbors and Public Safety personnel a little bit better.
X-ALT-DESC;FMTTYPE=text/html:National Night Out in Fort Bragg will be held at Bainbridge Park from 5-7 PM. Please join us to enjoy some food and get to know your neighbors and Public Safety personnel a little bit better.
LOCATION:Bainbridge Park
UID:e.2883.9142
SEQUENCE:3
DTSTAMP:20260423T022844Z
URL:http://mendocinocoast.smartcms.site/events/details/national-night-out-9142
END:VEVENT

END:VCALENDAR
