BEGIN:VCALENDAR
VERSION:2.0
PRODID:-//ChamberMaster//Event Calendar 2.0//EN
METHOD:PUBLISH
X-PUBLISHED-TTL:P3D
REFRESH-INTERVAL:P3D
CALSCALE:GREGORIAN
BEGIN:VEVENT
DTSTART:20180509T010000Z
DTEND:20180509T023000Z
X-MICROSOFT-CDO-ALLDAYEVENT:FALSE
SUMMARY:Nailed It! Adult Crafting with Amie
DESCRIPTION:This month\, Amie is trying her hand at making Bath Bombs so bring your BFF and join the fun. All supplies are provided.
X-ALT-DESC;FMTTYPE=text/html:This month\, Amie is trying her hand at making Bath Bombs so bring your BFF and join the fun. All supplies are provided.
LOCATION:Fort Bragg Library 499 E Laurel St Fort Bragg
UID:e.2883.5648
SEQUENCE:3
DTSTAMP:20260423T073747Z
URL:http://mendocinocoast.smartcms.site/events/details/nailed-it-adult-crafting-with-amie-5648
END:VEVENT

END:VCALENDAR
