BEGIN:VCALENDAR
VERSION:2.0
PRODID:-//ChamberMaster//Event Calendar 2.0//EN
METHOD:PUBLISH
X-PUBLISHED-TTL:P3D
REFRESH-INTERVAL:P3D
CALSCALE:GREGORIAN
BEGIN:VEVENT
DTSTART:20191113T020000Z
DTEND:20191113T033000Z
X-MICROSOFT-CDO-ALLDAYEVENT:FALSE
SUMMARY:Nailed It! Adult Crafting with Amie
DESCRIPTION:Finally\, a program for those of us who aren't comfortable with our crafting skills and just want to have fun attempting something new. Supplies are provided so all you need to bring is your creative self and a couple of your BFFs to share the fun. We might even throw in a snack or two. Nailed It! is the second Tuesday of the month\, 6-7:30 pm. This month's project: Lunch Bag Pumpkins
X-ALT-DESC;FMTTYPE=text/html:Finally\, a program for those of us who aren&rsquo\;t comfortable with our crafting skills and just want to have fun attempting something new. Supplies are provided so all you need to bring is your creative self and a couple of your BFFs to share the fun. We might even throw in a snack or two. Nailed It! is the second Tuesday of the month\, 6-7:30 pm. This month&#39\;s project: Lunch Bag Pumpkins
LOCATION:Fort Bragg Library 499 Laurel St Fort Bragg\, CA 95437
UID:e.2883.12461
SEQUENCE:3
DTSTAMP:20260422T011825Z
URL:http://mendocinocoast.smartcms.site/events/details/nailed-it-adult-crafting-with-amie-11-12-2019-12461
END:VEVENT

END:VCALENDAR
