BEGIN:VCALENDAR
VERSION:2.0
PRODID:-//ChamberMaster//Event Calendar 2.0//EN
METHOD:PUBLISH
X-PUBLISHED-TTL:P3D
REFRESH-INTERVAL:P3D
CALSCALE:GREGORIAN
BEGIN:VEVENT
DTSTART:20181010T010000Z
DTEND:20181010T023000Z
X-MICROSOFT-CDO-ALLDAYEVENT:FALSE
SUMMARY:Nailed It! Adult Crafting with Amie
DESCRIPTION:This month we'll attempt to make Moroccan inspired paper lanterns. THIS IS NOT A CLASS! It's a program for those of us who aren't comfortable with our crafting skills and just want to have fun attempting something new. Supplies are provided and we'll even throw in a snack or two. Bring yourself and a couple of your BFFs for a fun time.
X-ALT-DESC;FMTTYPE=text/html:This month we&#39\;ll attempt to make Moroccan inspired paper lanterns. THIS IS NOT A CLASS! It&#39\;s a program for those of us who aren&rsquo\;t comfortable with our crafting skills and just want to have fun attempting something new. Supplies are provided and we&#39\;ll even throw in a snack or two. Bring yourself and a couple of your BFFs for a fun time.
LOCATION:Fort Bragg Library 499 E Laurel St Fort Bragg\, CA
UID:e.2883.10284
SEQUENCE:3
DTSTAMP:20260422T225414Z
URL:http://mendocinocoast.smartcms.site/events/details/nailed-it-adult-crafting-with-amie-10-09-2018-10284
END:VEVENT

END:VCALENDAR
