BEGIN:VCALENDAR
VERSION:2.0
PRODID:-//ChamberMaster//Event Calendar 2.0//EN
METHOD:PUBLISH
X-PUBLISHED-TTL:P3D
REFRESH-INTERVAL:P3D
CALSCALE:GREGORIAN
BEGIN:VEVENT
DTSTART:20180711T010000Z
DTEND:20180711T023000Z
X-MICROSOFT-CDO-ALLDAYEVENT:FALSE
SUMMARY:Nailed It! Adult Crafting with Amie
DESCRIPTION:This month rock painting because pet rocks are the best (no litterbox)! Supplies are provided so all you need to bring is your creative self and a couple of your BFFs to share the fun. We might even throw in a snack or two.
X-ALT-DESC;FMTTYPE=text/html:This month rock painting because pet rocks are the best (no litterbox)! Supplies are provided so all you need to bring is your creative self and a couple of your BFFs to share the fun. We might even throw in a snack or two.
LOCATION:Fort Bragg Library 499 E Laurel St Fort Bragg\, CA 95437
UID:e.2883.9077
SEQUENCE:3
DTSTAMP:20260423T041003Z
URL:http://mendocinocoast.smartcms.site/events/details/nailed-it-adult-crafting-with-amie-07-10-2018-9077
END:VEVENT

END:VCALENDAR
