BEGIN:VCALENDAR
VERSION:2.0
PRODID:-//ChamberMaster//Event Calendar 2.0//EN
METHOD:PUBLISH
X-PUBLISHED-TTL:P3D
REFRESH-INTERVAL:P3D
CALSCALE:GREGORIAN
BEGIN:VEVENT
DTSTART:20190313T010000Z
DTEND:20190313T030000Z
X-MICROSOFT-CDO-ALLDAYEVENT:FALSE
SUMMARY:Nailed It! Adult Crafting with Amie
DESCRIPTION:Finally\, a program for those of us who aren't comfortable with our crafting skills and just want to have fun attempting something new. Supplies are provided so all you need to bring is your creative self and a couple of your BFFs to share the fun. We might even throw in a snack or two. Nailed It! is the second Tuesday of the month\, 6-8 pm.
X-ALT-DESC;FMTTYPE=text/html:Finally\, a program for those of us who aren&rsquo\;t comfortable with our crafting skills and just want to have fun attempting something new. Supplies are provided so all you need to bring is your creative self and a couple of your BFFs to share the fun. We might even throw in a snack or two. Nailed It! is the second Tuesday of the month\, 6-8 pm.
LOCATION:Fort Bragg Library 499 E Laurel St Fort Bragg\, CA 95437
UID:e.2883.11314
SEQUENCE:3
DTSTAMP:20260422T144121Z
URL:http://mendocinocoast.smartcms.site/events/details/nailed-it-adult-crafting-with-amie-03-12-2019-11314
END:VEVENT

END:VCALENDAR
