BEGIN:VCALENDAR
VERSION:2.0
PRODID:-//ChamberMaster//Event Calendar 2.0//EN
METHOD:PUBLISH
X-PUBLISHED-TTL:P3D
REFRESH-INTERVAL:P3D
CALSCALE:GREGORIAN
BEGIN:VEVENT
DTSTART:20190213T020000Z
DTEND:20190213T040000Z
X-MICROSOFT-CDO-ALLDAYEVENT:FALSE
SUMMARY:Nailed It! Adult Crafting
DESCRIPTION:This month's craft: Spiral Paper Flower Hearts In celebration of Library Lover's Month (and\, yeah\, Valentines Day\, if you must) we will be making these lovely hearts. As usual\, materials are provided and we might throw in a snack or two! Bring your BFF and twirl away!
X-ALT-DESC;FMTTYPE=text/html:This month&rsquo\;s craft: Spiral Paper Flower Hearts In celebration of Library Lover&rsquo\;s Month (and\, yeah\, Valentines Day\, if you must) we will be making these lovely hearts. As usual\, materials are provided and we might throw in a snack or two! Bring your BFF and twirl away!
LOCATION:Fort Bragg Library 499 E Laurel St Fort Bragg\, CA 95437
UID:e.2883.10534
SEQUENCE:3
DTSTAMP:20260422T161925Z
URL:http://mendocinocoast.smartcms.site/events/details/nailed-it-adult-crafting-10534
END:VEVENT

END:VCALENDAR
