BEGIN:VCALENDAR
VERSION:2.0
PRODID:-//ChamberMaster//Event Calendar 2.0//EN
METHOD:PUBLISH
X-PUBLISHED-TTL:P3D
REFRESH-INTERVAL:P3D
CALSCALE:GREGORIAN
BEGIN:VEVENT
DTSTART:20180720T220000Z
DTEND:20180720T230000Z
X-MICROSOFT-CDO-ALLDAYEVENT:FALSE
SUMMARY:Musician Andy Z from Andyland!
DESCRIPTION:A multiple award-winning children's performer\, singer/songwriter and educator\, Andy Z combines music\, movement\, storytelling and character puppets to create an experience that keeps kids engaged and families entertained.
X-ALT-DESC;FMTTYPE=text/html:A multiple award-winning children&#39\;s performer\, singer/songwriter and educator\, Andy Z combines music\, movement\, storytelling and character puppets to create an experience that keeps kids engaged and families entertained.
LOCATION:Fort Bragg Library 499 E Laurel St Fort Bragg\, CA 95437
UID:e.2883.9078
SEQUENCE:3
DTSTAMP:20260423T040826Z
URL:http://mendocinocoast.smartcms.site/events/details/musician-andy-z-from-andyland-9078
END:VEVENT

END:VCALENDAR
