BEGIN:VCALENDAR
VERSION:2.0
PRODID:-//ChamberMaster//Event Calendar 2.0//EN
METHOD:PUBLISH
X-PUBLISHED-TTL:P3D
REFRESH-INTERVAL:P3D
CALSCALE:GREGORIAN
BEGIN:VEVENT
DTSTART:20181117T220000Z
DTEND:20181117T233000Z
X-MICROSOFT-CDO-ALLDAYEVENT:FALSE
SUMMARY:Mushrooms of the Redwood Coast with Christian Schwarz
DESCRIPTION:Mushroom enthusiasts are invited to a free mushroom discussion with Christian Schwarz\, co-author of Mushrooms of the Redwood Coast. CHRISTIAN SCHWARZ is a naturalist interested in the diversity of living organisms in general\, but the seemingly endless forms (whether grotesque\, bizarre\, or sublime) of fungi\, in particular\, stoke his curiosity. He spends most of his time teaching about natural history\, collecting and photographing mushrooms\, assembling an exhaustive mycoflora for Santa Cruz County (www.scmycoflora.org)\, and exploring wilderness around the world. He is particularly interested in the role of citizen scientists in the future of ecological and taxonomic research.
X-ALT-DESC;FMTTYPE=text/html:Mushroom enthusiasts are invited to a free mushroom discussion with Christian Schwarz\, co-author of Mushrooms of the Redwood Coast. CHRISTIAN SCHWARZ is a naturalist interested in the diversity of living organisms in general\, but the seemingly endless forms (whether grotesque\, bizarre\, or sublime) of fungi\, in particular\, stoke his curiosity. He spends most of his time teaching about natural history\, collecting and photographing mushrooms\, assembling an exhaustive mycoflora for Santa Cruz County (www.scmycoflora.org)\, and exploring wilderness around the world. He is particularly interested in the role of citizen scientists in the future of ecological and taxonomic research.
LOCATION:Fort Bragg Library 499 E Laurel St Fort Bragg\, CA
UID:e.2883.10293
SEQUENCE:3
DTSTAMP:20260422T210943Z
URL:http://mendocinocoast.smartcms.site/events/details/mushrooms-of-the-redwood-coast-with-christian-schwarz-10293
END:VEVENT

END:VCALENDAR
