BEGIN:VCALENDAR
VERSION:2.0
PRODID:-//ChamberMaster//Event Calendar 2.0//EN
METHOD:PUBLISH
X-PUBLISHED-TTL:P3D
REFRESH-INTERVAL:P3D
CALSCALE:GREGORIAN
BEGIN:VEVENT
DTSTART:20161223T190000Z
DTEND:20161224T020000Z
X-MICROSOFT-CDO-ALLDAYEVENT:FALSE
SUMMARY:Multiple Originals: The Fine Print
DESCRIPTION:PARTNERS GALLERYMULTIPLE ORIGINALS: THE FINE PRINTJANUARY 5 â€“ 29\, 2017FIRST FRIDAY RECEPTION\, JAN 6\, 5-8PMÂ Partners Gallery is pleased to be exhibiting three experienced and lively local fine printmakers exploring an extensive variety of printmaking techniques.Â Kathy Carl develops images from her unique drawing style to create prints using solarplate\, etching\, chine colle\, linocut\, lithograph and monoprint.Â Robert Rhoades builds prints using several print media and multiple plates\, including a series of modular multiples. He uses woodcut\, computer generated images\, blind embossing as well as aquatint and other print media. Â Several of the images are derived from sketches while traveling.Â Sculptor Mary Anderson conveys her love of the fluid line of the figure in her etchings with Japanese paper chine colle.Â  Hand colored solar prints and lino cuts are also included in the show.Â Partners Gallery is located at 335 N. Franklin Street in Fort Bragg and is open Wednesday through Monday 10 am to 5 pm and Sundays 10 am to 4 pm. 707 962-0233Â  http://www.partnersgallery.com
X-ALT-DESC;FMTTYPE=text/html:<p>PARTNERS GALLERY</p><p>MULTIPLE ORIGINALS: THE FINE PRINT</p><p>JANUARY 5 â€“ 29\, 2017</p><p>FIRST FRIDAY RECEPTION\, JAN 6\, 5-8PM</p><p>Â </p><p>Partners Gallery is pleased to be exhibiting three experienced and lively local fine printmakers exploring an extensive variety of printmaking techniques.</p><p>Â </p><p>Kathy Carl develops images from her unique drawing style to create prints using solarplate\, etching\, chine colle\, linocut\, lithograph and monoprint.</p><p>Â </p><p>Robert Rhoades builds prints using several print media and multiple plates\, including a series of modular multiples. He uses woodcut\, computer generated images\, blind embossing as well as aquatint and other print media. Â Several of the images are derived from sketches while traveling.</p><p>Â </p><p>Sculptor Mary Anderson conveys her love of the fluid line of the figure in her etchings with Japanese paper chine colle.Â  Hand colored solar prints and lino cuts are also included in the show.</p><p>Â </p><p>Partners Gallery is located at 335 N. Franklin Street in Fort Bragg and is open Wednesday through Monday 10 am to 5 pm and Sundays 10 am to 4 pm. 707 962-0233Â  <a href="http://www.partnersgallery.com">http://www.partnersgallery.com</a>&gt\;</p>
LOCATION:Partners Gallery Fort Bragg\, CA
UID:e.2883.1080
SEQUENCE:3
DTSTAMP:20260424T125423Z
URL:http://mendocinocoast.smartcms.site/events/details/multiple-originals-the-fine-print-12-23-2016-1080
END:VEVENT

END:VCALENDAR
