BEGIN:VCALENDAR
VERSION:2.0
PRODID:-//ChamberMaster//Event Calendar 2.0//EN
METHOD:PUBLISH
X-PUBLISHED-TTL:P3D
REFRESH-INTERVAL:P3D
CALSCALE:GREGORIAN
BEGIN:VEVENT
DTSTART:20180621T070000Z
DTEND:20180621T070000Z
X-MICROSOFT-CDO-ALLDAYEVENT:FALSE
SUMMARY:MTC's Reading Series: War of the Worlds
DESCRIPTION:Mendocino Theatre Company's Wednesday evening reading series is excited to present the Orson Welles radio show\, which will be "broadcast" live on our stage\, directed by MTC's Mervin Gilbert.
X-ALT-DESC;FMTTYPE=text/html:Mendocino Theatre Company&#39\;s Wednesday evening reading series is excited to present the Orson Welles radio show\, which will be &quot\;broadcast&quot\; live on our stage\, directed by MTC&#39\;s Mervin Gilbert.
LOCATION:Mendocino Theatre Company (Helen Schoeni Theater)\, 45200 Little Lake\, next to the Mendocino Art Center.
UID:e.2883.9001
SEQUENCE:3
DTSTAMP:20260423T073749Z
URL:http://mendocinocoast.smartcms.site/events/details/mtc-s-reading-series-war-of-the-worlds-9001
END:VEVENT

END:VCALENDAR
