BEGIN:VCALENDAR
VERSION:2.0
PRODID:-//ChamberMaster//Event Calendar 2.0//EN
METHOD:PUBLISH
X-PUBLISHED-TTL:P3D
REFRESH-INTERVAL:P3D
CALSCALE:GREGORIAN
BEGIN:VEVENT
DTSTART:20180927T020000Z
DTEND:20180927T040000Z
X-MICROSOFT-CDO-ALLDAYEVENT:FALSE
SUMMARY:MTC's Reading Series: Mystery at Langston Manor
DESCRIPTION:The  Mendocino Theatre Company's Wednesday evening reading series is happy to present this original work by local actor and writer\, Jancice Culliford\, about a young girl caught in a dangerous web of lies and deceit.
X-ALT-DESC;FMTTYPE=text/html:&nbsp\;The&nbsp\; Mendocino Theatre Company&#39\;s Wednesday evening reading series is happy to present this original work by local actor and writer\, Jancice Culliford\, about a young girl caught in a dangerous web of lies and deceit.
LOCATION:
UID:e.2883.8999
SEQUENCE:3
DTSTAMP:20260423T003648Z
URL:http://mendocinocoast.smartcms.site/events/details/mtc-s-reading-series-mystery-at-langston-manor-8999
END:VEVENT

END:VCALENDAR
