BEGIN:VCALENDAR
VERSION:2.0
PRODID:-//ChamberMaster//Event Calendar 2.0//EN
METHOD:PUBLISH
X-PUBLISHED-TTL:P3D
REFRESH-INTERVAL:P3D
CALSCALE:GREGORIAN
BEGIN:VEVENT
DTSTART:20180830T020000Z
DTEND:20180830T040000Z
X-MICROSOFT-CDO-ALLDAYEVENT:FALSE
SUMMARY:MTC's Reading Series: Enemy of the People
DESCRIPTION:Mendocino Theatre Company continues it's Wednesday evening reading series with Ibsen's "Enemy of the People"\, directed by Lynn Sotos
X-ALT-DESC;FMTTYPE=text/html:Mendocino Theatre Company continues it&#39\;s Wednesday evening reading series with Ibsen&#39\;s &quot\;Enemy of the People&quot\;\, directed by Lynn Sotos
LOCATION:
UID:e.2883.8998
SEQUENCE:3
DTSTAMP:20260423T023021Z
URL:http://mendocinocoast.smartcms.site/events/details/mtc-s-reading-series-enemy-of-the-people-8998
END:VEVENT

END:VCALENDAR
