BEGIN:VCALENDAR
VERSION:2.0
PRODID:-//ChamberMaster//Event Calendar 2.0//EN
METHOD:PUBLISH
X-PUBLISHED-TTL:P3D
REFRESH-INTERVAL:P3D
CALSCALE:GREGORIAN
BEGIN:VEVENT
DTSTART:20181115T030000Z
DTEND:20181115T050000Z
X-MICROSOFT-CDO-ALLDAYEVENT:FALSE
SUMMARY:MTC's Reading Series: Destry Rides Again
DESCRIPTION:Mendocino Theatre Company's Wednesday evening reading series presents "Destry Rides Again"\, originally a film starring Jimmy Stewart & Marlene Dietrich\, shown tonight as the Lux Radio broadcast version\, directed by Phillip Regan\, an actor regularly seen on the MTC stage.
X-ALT-DESC;FMTTYPE=text/html:Mendocino Theatre Company&#39\;s Wednesday evening reading series presents &quot\;Destry Rides Again&quot\;\, originally a film starring Jimmy Stewart &amp\; Marlene Dietrich\, shown tonight as the Lux Radio broadcast version\, directed by Phillip Regan\, an actor regularly seen on the MTC stage.
LOCATION:Mendocino Theatre Company\, 45200 Little Lake\, next to the Mendocino Art Center.
UID:e.2883.9023
SEQUENCE:3
DTSTAMP:20260422T210749Z
URL:http://mendocinocoast.smartcms.site/events/details/mtc-s-reading-series-destry-rides-again-9023
END:VEVENT

END:VCALENDAR
