BEGIN:VCALENDAR
VERSION:2.0
PRODID:-//ChamberMaster//Event Calendar 2.0//EN
METHOD:PUBLISH
X-PUBLISHED-TTL:P3D
REFRESH-INTERVAL:P3D
CALSCALE:GREGORIAN
BEGIN:VEVENT
DTSTART:20161021T170100Z
DTEND:20161022T010000Z
X-MICROSOFT-CDO-ALLDAYEVENT:FALSE
SUMMARY:"Moving To and Fro": Mixed Media Paintings by Mina Cohen
DESCRIPTION:Â â€œMOVING TO AND FROâ€MIXED MEDIA PIECES BY MINA COHENNOVEMBER 3 â€“ 28\, 2016FIRST FRIDAY RECEPTION NOV 4\, 5-8pmWine Served by Handley CellarsÂ Mina Cohen is showing mixed media paintings in a show entitled â€œMoving To and Froâ€.Â  The theme of moving is seen in two series.Â  The first entitled Out of the Closet depicts the contents of an elderly personâ€™s closet who has to move from her home of 30 years.Â  The second series is entitled Where are you Moving to acknowledging the often heard phrase at this time of the yearâ€¦.â€if so and so is elected Iâ€™m moving toâ€¦.â€.Â  The work incorporates collage materials such as photographs and maps and other mixed mediaPartners Gallery is located at 335 N. Franklin St and is open Wednesday through Monday 10 am to 5 pm and Sundays 10 am to 4 pm. Closed Thanksgiving Day Nov. 24.Â  Â 707 962-0233Â  http://www.partnersgallery.com
X-ALT-DESC;FMTTYPE=text/html:<p>Â </p><p>â€œMOVING TO AND FROâ€</p><p>MIXED MEDIA PIECES BY MINA COHEN</p><p>NOVEMBER 3 â€“ 28\, 2016</p><p>FIRST FRIDAY RECEPTION NOV 4\, 5-8pm</p><p>Wine Served by Handley Cellars</p><p>Â </p><p>Mina Cohen is showing mixed media paintings in a show entitled â€œMoving To and Froâ€.Â  The theme of moving is seen in two series.Â  The first entitled <em>Out of the Closet</em> depicts the contents of an elderly personâ€™s closet who has to move from her home of 30 years.Â  The second series is entitled <em>Where are you Moving to</em> acknowledging the often heard phrase at this time of the yearâ€¦.â€if so and so is elected Iâ€™m moving toâ€¦.â€.Â  The work incorporates collage materials such as photographs and maps and other mixed media</p><p>Partners Gallery is located at 335 N. Franklin St and is open Wednesday through Monday 10 am to 5 pm and Sundays 10 am to 4 pm. Closed Thanksgiving Day Nov. 24.Â  Â 707 962-0233Â  <a href="http://www.partnersgallery.com">http://www.partnersgallery.com</a>&gt\;</p>
LOCATION:Partners Gallery Fort Bragg
UID:e.2883.1053
SEQUENCE:3
DTSTAMP:20260424T160637Z
URL:http://mendocinocoast.smartcms.site/events/details/moving-to-and-fro-mixed-media-paintings-by-mina-cohen-10-21-2016-1053
END:VEVENT

END:VCALENDAR
