BEGIN:VCALENDAR
VERSION:2.0
PRODID:-//ChamberMaster//Event Calendar 2.0//EN
METHOD:PUBLISH
X-PUBLISHED-TTL:P3D
REFRESH-INTERVAL:P3D
CALSCALE:GREGORIAN
BEGIN:VEVENT
DTSTART:20170126T050000Z
DTEND:20170126T070000Z
X-MICROSOFT-CDO-ALLDAYEVENT:FALSE
SUMMARY:Morning's At Seven
DESCRIPTION:The Mendocino Theatre Company opens its 40th Anniversary Season with a revival of the heart-warming comedy MORNING'S AT SEVEN by Paul Osborn.â€œMorningâ€™s at Seven will not only make you feel great about yourself\, it will let you finally forgive every member of your family who has ever wronged you.â€ â€“Talking BroadwayCAST:Ruby Bell\, Debira Branscombe\,Â Dwight Branscombe\, Mark Friedrich\, Dan Kozloff\, Crystal Leatherwood\, Phillip Regan\, Jan Saul\, and Lynn SotosSet Design: Diane LarsonLight Design: Lee Edmundson and Steve GreenwoodStage Manager: Â George BishopTickets available at mendocinotheatre.org or by calling the box office at 707-937-4477.
X-ALT-DESC;FMTTYPE=text/html:<p>The Mendocino Theatre Company opens its 40th Anniversary Season with a revival of the heart-warming comedy MORNING'S AT SEVEN by Paul Osborn.</p><p>â€œ<em><strong>Morningâ€™s at Seven</strong> will not only make you feel great about yourself\, it will let you finally forgive every member of your family who has ever wronged you.</em>â€ â€“Talking Broadway</p><p>CAST:</p><p>Ruby Bell\, Debira Branscombe\,Â Dwight Branscombe\, Mark Friedrich\, Dan Kozloff\, Crystal Leatherwood\, Phillip Regan\, Jan Saul\, and Lynn Sotos</p><p>Set Design: Diane Larson</p><p>Light Design: Lee Edmundson and Steve Greenwood</p><p>Stage Manager: Â George Bishop</p><p><strong>Tickets available at mendocinotheatre.org or by calling the box office at 707-937-4477.</strong></p>
LOCATION:Mendocino Theatre Company
UID:e.2883.1101
SEQUENCE:3
DTSTAMP:20260424T110028Z
URL:http://mendocinocoast.smartcms.site/events/details/morning-s-at-seven-01-25-2017-1101
END:VEVENT

END:VCALENDAR
