BEGIN:VCALENDAR
VERSION:2.0
PRODID:-//ChamberMaster//Event Calendar 2.0//EN
METHOD:PUBLISH
X-PUBLISHED-TTL:P3D
REFRESH-INTERVAL:P3D
CALSCALE:GREGORIAN
BEGIN:VEVENT
DTSTART:20190302T180000Z
DTEND:20190302T193000Z
X-MICROSOFT-CDO-ALLDAYEVENT:FALSE
SUMMARY:Monthly Noyo Harbor Beach Clean-Up
DESCRIPTION:WE NEED YOUR HELP ON OUR BEACH CLEAN-UP! Growing out of our very successful Tsunami Debris Survey program\, the Noyo Center has initiated a permanent beach clean-up program.  Our beach stewards are making our beaches more pleasant for visitors and safer for coastal marine life.  We host a group walk at 10am every first Saturday of the month at Noyo Harbor Beach "Dog Beach" so newcomers can learn what we do and how to report their findings.
X-ALT-DESC;FMTTYPE=text/html:WE NEED YOUR HELP ON OUR BEACH CLEAN-UP! Growing out of&nbsp\;our very successful Tsunami Debris Survey program\, the Noyo Center has initiated a permanent beach clean-up program. &nbsp\;Our beach stewards are making our beaches&nbsp\;more pleasant for visitors and safer for coastal marine life. &nbsp\;We host a group walk at 10am every first Saturday of the month at Noyo Harbor Beach &ldquo\;Dog Beach&rdquo\; so newcomers can learn what we do and how to report their findings.
LOCATION:32100 N Harbor Dr. Fort Bragg\, CA 95437
UID:e.2883.11297
SEQUENCE:3
DTSTAMP:20260422T143927Z
URL:http://mendocinocoast.smartcms.site/events/details/monthly-noyo-harbor-beach-clean-up-11297
END:VEVENT

END:VCALENDAR
