BEGIN:VCALENDAR
VERSION:2.0
PRODID:-//ChamberMaster//Event Calendar 2.0//EN
METHOD:PUBLISH
X-PUBLISHED-TTL:P3D
REFRESH-INTERVAL:P3D
CALSCALE:GREGORIAN
BEGIN:VEVENT
DTSTART:20180827T180000Z
DTEND:20180828T000000Z
X-MICROSOFT-CDO-ALLDAYEVENT:FALSE
SUMMARY:Miriam Davis: "Floating World" - Painting and Sculpture
DESCRIPTION:In an exhibition called Floating World\, Miriam Davis is showing painting and sculpture. The paintings evolve from natural forms and float in space that may suggest water or landscape.\n\nHer sculptures are a return to a previous love of clay and the joy of modeling porcelain. The small figures relate to each other in ways arising from the imagination using the language of dreams.\n\n \n\nThere is a First Friday Reception Aug 3rd\, 5-8pm\n\n \n\nHOURS: Wednesday through Monday 11 am to 5 pm and Sundays 11 am to 4 pm.\, or by appointment call 707 964-6448 or 707 962-0655\;\n\npartners@mcn.org\; www.partnersgallery.com\; 707 962-0233
X-ALT-DESC;FMTTYPE=text/html:<span style="color:#222222">In an exhibition called Floating World\, Miriam Davis is showing painting and sculpture. The paintings evolve from natural forms and float in space that may suggest water or landscape.</span><br />\n<span style="color:#222222">Her sculptures are a return to a previous love of clay and the joy of modeling porcelain. The small figures relate to each other in ways arising from the imagination using the language of dreams.</span><br />\n&nbsp\;<br />\n<span style="color:#222222">There is a First Friday Reception Aug 3<sup>rd</sup>\, 5-8pm</span><br />\n&nbsp\;<br />\n<span style="color:#222222">HOURS: Wednesday through Monday 11 am to 5 pm and Sundays 11 am to 4 pm.\, or by appointment call&nbsp\;<u><span style="color:#1155CC">707 964-6448</span></u>&nbsp\;or&nbsp\;<u><span style="color:#1155CC">707 962-0655</span></u>\;</span><br />\n<span style="color:#222222"><u><span style="color:#1155CC">partners@mcn.org</span></u>\;&nbsp\;<u><span style="color:#1155CC">www.partnersgallery.com</span></u>\;&nbsp\;<u><span style="color:#1155CC">707 962-0233</span></u></span><br />\n&nbsp\;<br />\n&nbsp\;
LOCATION:Partners Gallery 335 N. Franklin St Fort Bragg\, CA 95437
UID:e.2883.9130
SEQUENCE:3
DTSTAMP:20260423T023020Z
URL:http://mendocinocoast.smartcms.site/events/details/miriam-davis-floating-world-painting-and-sculpture-08-27-2018-9130
END:VEVENT

END:VCALENDAR
