BEGIN:VCALENDAR
VERSION:2.0
PRODID:-//ChamberMaster//Event Calendar 2.0//EN
METHOD:PUBLISH
X-PUBLISHED-TTL:P3D
REFRESH-INTERVAL:P3D
CALSCALE:GREGORIAN
BEGIN:VEVENT
DTSTART:20181215T033000Z
DTEND:20181215T053000Z
X-MICROSOFT-CDO-ALLDAYEVENT:FALSE
SUMMARY:MIRACLE ON 34TH STREET
DESCRIPTION:This is the beloved 1940's Christmas story set in radio show format\, staged with musical numbers\, sound effects\, and all the trimmings. Fun for the whole family!!
X-ALT-DESC;FMTTYPE=text/html:This is the beloved 1940&#39\;s Christmas story set in radio show format\, staged with musical numbers\, sound effects\, and all the trimmings. Fun for the whole family!!
LOCATION:Mendocino Theatre Company - 45200 Little Lake Road
UID:e.2883.9074
SEQUENCE:3
DTSTAMP:20260422T192848Z
URL:http://mendocinocoast.smartcms.site/events/details/miracle-on-34th-street-9074
END:VEVENT

END:VCALENDAR
