BEGIN:VCALENDAR
VERSION:2.0
PRODID:-//ChamberMaster//Event Calendar 2.0//EN
METHOD:PUBLISH
X-PUBLISHED-TTL:P3D
REFRESH-INTERVAL:P3D
CALSCALE:GREGORIAN
BEGIN:VEVENT
DTSTART:20171007T000000Z
DTEND:20171007T020000Z
X-MICROSOFT-CDO-ALLDAYEVENT:FALSE
SUMMARY:MINI-MEMORY BOX CLASS
DESCRIPTION:SPONSORED BY FRIENDS OF HOSPICE: A WORKSHOP TO MAKE A SMALL MEMORY BOX TO CELEBRATE DAY OF THE DEAD
X-ALT-DESC;FMTTYPE=text/html:SPONSORED BY FRIENDS OF HOSPICE: A WORKSHOP TO MAKE A SMALL MEMORY BOX TO CELEBRATE DAY OF THE DEAD
LOCATION:INTERIOR 224 E. REDWOOD FORT BRAGG
UID:e.2883.4448
SEQUENCE:3
DTSTAMP:20260423T201859Z
URL:http://mendocinocoast.smartcms.site/events/details/mini-memory-box-class-4448
END:VEVENT

END:VCALENDAR
