BEGIN:VCALENDAR
VERSION:2.0
PRODID:-//ChamberMaster//Event Calendar 2.0//EN
METHOD:PUBLISH
X-PUBLISHED-TTL:P3D
REFRESH-INTERVAL:P3D
CALSCALE:GREGORIAN
BEGIN:VEVENT
DTSTART:20240307T030000Z
DTEND:20240307T050000Z
X-MICROSOFT-CDO-ALLDAYEVENT:FALSE
SUMMARY:MFF Classic Film - The Last Waltz
DESCRIPTION:Travel back in time with movie magic from years past! The Last Waltz
X-ALT-DESC;FMTTYPE=text/html:<span style="font-size:16px\;"><span style="font-family:arial\;"><span style="caret-color: rgb(61\, 59\, 61)\; color: rgb(61\, 59\, 61)\; text-size-adjust: auto\;">Travel back in time with movie magic from years past! </span></span>The Last Waltz</span>
LOCATION:Coast Cinemas\, 135 S. Franklin Street
UID:e.2883.23238
SEQUENCE:3
DTSTAMP:20260420T124247Z
URL:http://mendocinocoast.smartcms.site/events/details/mff-classic-film-the-last-waltz-23238
END:VEVENT

END:VCALENDAR
