BEGIN:VCALENDAR
VERSION:2.0
PRODID:-//ChamberMaster//Event Calendar 2.0//EN
METHOD:PUBLISH
X-PUBLISHED-TTL:P3D
REFRESH-INTERVAL:P3D
CALSCALE:GREGORIAN
BEGIN:VEVENT
DTSTART:20191207T190000Z
DTEND:20200328T190000Z
X-MICROSOFT-CDO-ALLDAYEVENT:FALSE
SUMMARY:MendoParks Whale Walks
DESCRIPTION:MendoParks offers free guided Whale Walks every Saturday from December 7th through March 28th. Walks at MacKerricher State Park are from 11:00-noon (meet at the visitor Center for discussion before heading out to Laguna Point to go whale watching) Walks at the Ford House Visitor Center and Museum at the Mendocino Headlands State Park (meet at the Ford House to learn about gray whales before heading out to the bluffs to look for whales) at 1:00 p.m. Please dress appropriately\; dogs on leash allowed\; binoculars provided.
X-ALT-DESC;FMTTYPE=text/html:MendoParks offers free guided Whale Walks every Saturday from December 7th through March 28th. Walks at MacKerricher State Park are from 11:00-noon (meet at the visitor Center for discussion before heading out to Laguna Point to go whale watching) Walks at the Ford House Visitor Center and Museum at the Mendocino Headlands State Park (meet at the Ford House to learn about gray whales before heading out to the bluffs to look for whales) at 1:00 p.m. Please dress appropriately\; dogs on leash allowed\; binoculars provided.
LOCATION:MacKerricher State Park are from 11:00-noon (meet at the visitor Center for discussion before heading out to Laguna Point to go whale watching) Walks at the Ford House Visitor Center and Museum at the Mendocino Headlands State Park (meet at the Ford House to learn about gray whales before heading out to the bluffs to look for whales) at 1:00 p.m.
UID:e.2883.12585
SEQUENCE:3
DTSTAMP:20260421T184144Z
URL:http://mendocinocoast.smartcms.site/events/details/mendoparks-whale-walks-12585
END:VEVENT

END:VCALENDAR
