BEGIN:VCALENDAR
VERSION:2.0
PRODID:-//ChamberMaster//Event Calendar 2.0//EN
METHOD:PUBLISH
X-PUBLISHED-TTL:P3D
REFRESH-INTERVAL:P3D
CALSCALE:GREGORIAN
BEGIN:VEVENT
DTSTART:20190503T023000Z
DTEND:20190505T213000Z
X-MICROSOFT-CDO-ALLDAYEVENT:FALSE
SUMMARY:Mendocino Women's Choir Concerts
DESCRIPTION:A "feminist\, progressive\, loving\, sassy\, non-audition community choir\," the shows will include their "usual array of diverse and worldly music\, tap-dance routines\, colorful and fun dances\, ukulele orchestra\, and fantastic singers (...and light sabers and pirates!)."
X-ALT-DESC;FMTTYPE=text/html:A &ldquo\;feminist\, progressive\, loving\, sassy\, non-audition community choir\,&rdquo\; the shows will include their &ldquo\;usual array of diverse and worldly music\, tap-dance routines\, colorful and fun dances\, ukulele orchestra\, and fantastic singers (...and light sabers and pirates!).&rdquo\;
LOCATION:Eagles Hall (corner of Alder and Corry streets)\, Fort Bragg.
UID:e.2883.11398
SEQUENCE:3
DTSTAMP:20260422T111458Z
URL:http://mendocinocoast.smartcms.site/events/details/mendocino-women-s-choir-concerts-11398
END:VEVENT

END:VCALENDAR
