BEGIN:VCALENDAR
VERSION:2.0
PRODID:-//ChamberMaster//Event Calendar 2.0//EN
METHOD:PUBLISH
X-PUBLISHED-TTL:P3D
REFRESH-INTERVAL:P3D
CALSCALE:GREGORIAN
BEGIN:VEVENT
DTSTART:20180420T023000Z
DTEND:20180420T040000Z
X-MICROSOFT-CDO-ALLDAYEVENT:FALSE
SUMMARY:Mendocino Women’s Choir 26th Anniversary Spring Concerts
DESCRIPTION:Mendocino Women's Choir 26th Anniversary Spring Concerts at Eagles Hall   Save the Date!\n\nWe're Back!\n\nThe Mendocino Women's Choir celebrates our 26th Anniversary with our traditional spring concert series\, this year at Eagles Hall in Fort Bragg.\n\nWe celebrate our many years together with songs of freedom\, courage\, and humor\, as well as singalongs and well-loved classical pieces. Over our 26 years together\, the choir has shared friendship and camaraderie with more than 130 members.\n\nThis season our dances will feature rock and roll\, a bit of tango\, and the ever-popular tap-dancing.\n\nEagles Hall\, on the corner of Corry and Alder Streets\, provides a welcoming venue\, with new graduated audience seating.\n\nThe choir will sell wine and beverages and delicious treats from Bollivers by Robert Goleman\n\nWe invite the community to join us in celebration for our 7:30 pm performances on Thursday\, April 19\, Friday\, April 20\, Saturday\, April 21\, and for the Sunday matinee at 2:30 p.m.\n\nTicket prices are $18 for adults\, $12 for seniors and children over 12\; $5 for children under 12\n\nTickets go on sale March 26 at Harvest Market in Fort Bragg and Silver & Stone on Main Street in Mendocino.\n\nCall 937-4612 for more information and visit MendocinoWomensChoir.org and our Facebook page.
X-ALT-DESC;FMTTYPE=text/html:<p><strong>Mendocino Women&rsquo\;s Choir 26</strong><sup><strong>th</strong></sup><strong> Anniversary Spring Concerts at Eagles Hall &ndash\; Save the Date!</strong></p>\n\n<p>We&rsquo\;re Back!</p>\n\n<p>The Mendocino Women&rsquo\;s Choir celebrates our 26<sup>th</sup> Anniversary with our traditional spring concert series\, this year at Eagles Hall in Fort Bragg.</p>\n\n<p>We celebrate our many years together with songs of freedom\, courage\, and humor\, as well as singalongs and well-loved classical pieces. Over our 26 years together\, the choir has shared friendship and camaraderie with more than 130 members.</p>\n\n<p>This season our dances will feature rock and roll\, a bit of tango\, and the ever-popular tap-dancing.</p>\n\n<p>Eagles Hall\, on the corner of Corry and Alder Streets\, provides a welcoming venue\, with new graduated audience seating.</p>\n\n<p>The choir will sell wine and beverages and delicious treats from Bollivers by Robert Goleman</p>\n\n<p>We invite the community to join us in celebration for our 7:30 pm performances on Thursday\, April 19\, Friday\, April 20\, Saturday\, April 21\, and for the Sunday matinee at 2:30 p.m.</p>\n\n<p>Ticket prices are $18 for adults\, $12 for seniors and children over 12\; $5 for children under 12</p>\n\n<p>Tickets go on sale March 26 at Harvest Market in Fort Bragg and Silver &amp\; Stone on Main Street in Mendocino.</p>\n\n<p>Call 937-4612 for more information and visit MendocinoWomensChoir.org and our Facebook page.</p>\n
LOCATION:Eagles Hall - 210 N Corry\, Fort Bragg
UID:e.2883.5596
SEQUENCE:3
DTSTAMP:20260423T091635Z
URL:http://mendocinocoast.smartcms.site/events/details/mendocino-women-s-choir-26th-anniversary-spring-concerts-5596
END:VEVENT

END:VCALENDAR
