BEGIN:VCALENDAR
VERSION:2.0
PRODID:-//ChamberMaster//Event Calendar 2.0//EN
METHOD:PUBLISH
X-PUBLISHED-TTL:P3D
REFRESH-INTERVAL:P3D
CALSCALE:GREGORIAN
BEGIN:VEVENT
DTSTART;VALUE=DATE:20180303
DTEND;VALUE=DATE:20180305
TRANSP:TRANSPARENT
X-MICROSOFT-CDO-ALLDAYEVENT:TRUE
SUMMARY:Mendocino Whale Festival at the Ford House
DESCRIPTION:Whale walk and talk. Gray Whale Migration discussion and a walk along the Mendocino Headlands. 11:30 am and 2:00 Pm on Saturday. 11:30 only on Sunday.
X-ALT-DESC;FMTTYPE=text/html:Whale walk and talk. Gray Whale Migration discussion and a walk along the Mendocino Headlands. 11:30 am and 2:00 Pm on Saturday. 11:30 only on Sunday.
LOCATION:Ford House Visitor Center and Museum
UID:e.2883.5579
SEQUENCE:3
DTSTAMP:20260423T105719Z
URL:http://mendocinocoast.smartcms.site/events/details/mendocino-whale-festival-at-the-ford-house-5579
END:VEVENT

END:VCALENDAR
