BEGIN:VCALENDAR
VERSION:2.0
PRODID:-//ChamberMaster//Event Calendar 2.0//EN
METHOD:PUBLISH
X-PUBLISHED-TTL:P3D
REFRESH-INTERVAL:P3D
CALSCALE:GREGORIAN
BEGIN:VEVENT
DTSTART;VALUE=DATE:20180303
DTEND;VALUE=DATE:20180305
TRANSP:TRANSPARENT
X-MICROSOFT-CDO-ALLDAYEVENT:TRUE
SUMMARY:Mendocino Whale Festival
DESCRIPTION:Enjoy Wine\, Chowder and Craft Beer Tasting while exploring the beautiful village of Mendocino where there are plenty of whales to view from the surrounding Mendocino Headlands State Park. Taste some of Mendocino County's finest varietals in shops and galleries throughout Mendocino village. A complimentary trolley will be provided for your convenience. Tickets can be bought online for the chowder\, wine\, and beer tasting at Brown Paper Tickets.\n\n\n\n\n\nChowder Tasting Enjoy a variety of chowders ranging from traditional to not so traditional! Our Chowder Tasting will feature chowders from various local restaurants - and you can be there to taste them all! \n\nWhen: Saturday\, March 3rd from 11:00am - 1:00pm or until the chowder runs out.\n\nWhere: Crown Hall\, Mendocino\, CA  \n\nTickets for the chowder tasting are $10 and can be bought online at Brown Paper Tickets\, at the Mendocino Coast Chamber office at 217 S Main Street\, Fort Bragg\, and at the venue. \n\n \nBeer Tasting Craft Brews from North Coast Brewing Company are only $5 and include a FREE 3 oz. pour of North Coast Brewing Company's new North Coast Steller IPA!\n\nProceeds from Stellar provide support for marine mammal research and rescue.\n\nWhen: Saturday\, March 3rd from 11:00am - 1:00pm.\n\nWhere: Crown Hall\, Mendocino\, CA\n\nTickets are $5 and can be purchased online at Brown Paper Tickets\, at the Mendocino Coast Chamber office at 217 S Main Street\, Fort Bragg\, and at the venue.\n\nDon't forget your ID! \n\n\n\n \n\nWine Tasting: Over a dozen wineries From Mendocino County come together to pour wine for tasters in Mendocino Village.\n\nWhen: Saturday\, March 3rd from 1:00pm-4:00pm\n\nWhere: Ford House Museum\, 45035 Main St\, Mendocino\, CA 95460  \n\nTickets are $35 pre-sale and can be bought online at Brown Paper Tickets or at the Mendocino Coast Chamber office at 217 S Main Street\, Fort Bragg. \n\nYou can also purchase your ticket on the date itself for $40\; tickets will be available at the Ford House where you will also be able to pick up your Mendo Whale wine glass/es.\n\nRemember to bring your ID!
X-ALT-DESC;FMTTYPE=text/html:<span style="font-family: Arial\, &quot\;Helvetica Neue&quot\;\, Helvetica\, sans-serif\; font-size: 16px\; background-color: rgba(255\, 255\, 255\, 0.941176)\;">Enjoy Wine\, Chowder and Craft Beer Tasting while exploring the beautiful village of Mendocino where there are plenty of whales to view from the surrounding Mendocino Headlands State Park. Taste some of Mendocino County&#39\;s finest varietals in shops and galleries throughout Mendocino village. A complimentary trolley will be provided for your convenience. Tickets can be bought online for the chowder\, wine\, and beer tasting at&nbsp\;</span><a href="http://www.brownpapertickets.com/browse.html?keywords=whale+festival+mendocino&amp\;sortby=name%20" style="box-sizing: border-box\; background-color: transparent\; color: rgb(30\, 163\, 194)\; text-decoration: none\; font-family: Arial\, &quot\;Helvetica Neue&quot\;\, Helvetica\, sans-serif\; font-size: 16px\;" target="_blank">Brown Paper Tickets</a><span style="font-family: Arial\, &quot\;Helvetica Neue&quot\;\, Helvetica\, sans-serif\; font-size: 16px\; background-color: rgba(255\, 255\, 255\, 0.941176)\;">.</span><br />\n<br />\n<br />\n<u><strong style="box-sizing: border-box\; font-family: Arial\, &quot\;Helvetica Neue&quot\;\, Helvetica\, sans-serif\; font-size: 1rem\;">Chowder Tasting</strong></u><span style="box-sizing: border-box\; font-family: Arial\, &quot\;Helvetica Neue&quot\;\, Helvetica\, sans-serif\; font-size: 1rem\;">&nbsp\;</span><span style="box-sizing: border-box\; font-family: Arial\, &quot\;Helvetica Neue&quot\;\, Helvetica\, sans-serif\; font-size: 1rem\;">Enjoy a variety of chowders ranging from traditional to not so traditional! Our&nbsp\;</span><strong style="box-sizing: border-box\; font-family: Arial\, &quot\;Helvetica Neue&quot\;\, Helvetica\, sans-serif\; font-size: 1rem\;">Chowder Tasting</strong><span style="box-sizing: border-box\; font-family: Arial\, &quot\;Helvetica Neue&quot\;\, Helvetica\, sans-serif\; font-size: 1rem\;">&nbsp\;will feature chowders from various local restaurants - and you can be there to taste them all!</span><span style="box-sizing: border-box\; font-family: Arial\, &quot\;Helvetica Neue&quot\;\, Helvetica\, sans-serif\; font-size: 1rem\;">&nbsp\;</span><br style="box-sizing: border-box\; font-family: Arial\, &quot\;Helvetica Neue&quot\;\, Helvetica\, sans-serif\; font-size: 16px\;" />\n<strong style="box-sizing: border-box\; font-family: Arial\, &quot\;Helvetica Neue&quot\;\, Helvetica\, sans-serif\; font-size: 16px\;">When:</strong><span style="font-family: Arial\, &quot\;Helvetica Neue&quot\;\, Helvetica\, sans-serif\; font-size: 16px\;">&nbsp\;Saturday\, March 3rd from 11:00am - 1:00pm or until the chowder runs out.</span><br style="box-sizing: border-box\; font-family: Arial\, &quot\;Helvetica Neue&quot\;\, Helvetica\, sans-serif\; font-size: 16px\;" />\n<strong style="box-sizing: border-box\; font-family: Arial\, &quot\;Helvetica Neue&quot\;\, Helvetica\, sans-serif\; font-size: 16px\;">Where:</strong><span style="font-family: Arial\, &quot\;Helvetica Neue&quot\;\, Helvetica\, sans-serif\; font-size: 16px\;">&nbsp\;Crown Hall\, Mendocino\, CA &nbsp\;</span><br style="box-sizing: border-box\; font-family: Arial\, &quot\;Helvetica Neue&quot\;\, Helvetica\, sans-serif\; font-size: 16px\;" />\n<span style="font-family: Arial\, &quot\;Helvetica Neue&quot\;\, Helvetica\, sans-serif\; font-size: 16px\;">Tickets for the chowder tasting are $10 and can be bought online at&nbsp\;</span><a href="http://www.brownpapertickets.com/browse.html?keywords=whale+festival+mendocino&amp\;sortby=name%20" style="box-sizing: border-box\; background-color: transparent\; color: rgb(30\, 163\, 194)\; text-decoration: none\; font-family: Arial\, &quot\;Helvetica Neue&quot\;\, Helvetica\, sans-serif\; font-size: 16px\;" target="_blank">Brown Paper Tickets</a><span style="font-family: Arial\, &quot\;Helvetica Neue&quot\;\, Helvetica\, sans-serif\; font-size: 16px\;">\,&nbsp\;at the Mendocino Coast Chamber office at 217 S Main Street\, Fort Bragg\, and at the venue.&nbsp\;</span><br />\n&nbsp\;\n<p style="box-sizing: border-box\; margin: 0px 0px 10px\; font-size: 16px\; font-family: Arial\, &quot\;Helvetica Neue&quot\;\, Helvetica\, sans-serif\;"><u><strong style="box-sizing: border-box\;">Beer Tasting</strong></u>&nbsp\;Craft Brews from North Coast Brewing Company are only $5 and include a FREE 3 oz. pour of North Coast Brewing Company&#39\;s new North Coast Steller IPA!</p>\n\n<p style="box-sizing: border-box\; margin: 0px 0px 10px\; font-size: 16px\; font-family: Arial\, &quot\;Helvetica Neue&quot\;\, Helvetica\, sans-serif\;">Proceeds from Stellar provide support for marine mammal research and rescue.</p>\n\n<p style="box-sizing: border-box\; margin: 0px 0px 10px\; font-size: 16px\; font-family: Arial\, &quot\;Helvetica Neue&quot\;\, Helvetica\, sans-serif\;"><strong style="box-sizing: border-box\;">When:</strong>&nbsp\;Saturday\, March 3rd from 11:00am - 1:00pm.<br style="box-sizing: border-box\;" />\n<strong style="box-sizing: border-box\;">Where:</strong>&nbsp\;Crown Hall\, Mendocino\, CA<br style="box-sizing: border-box\;" />\nTickets are $5 and can be purchased online at&nbsp\;<a href="http://www.brownpapertickets.com/browse.html?keywords=whale+festival+mendocino&amp\;sortby=name%20" style="box-sizing: border-box\; background-color: transparent\; color: rgb(30\, 163\, 194)\; text-decoration: none\;" target="_blank">Brown Paper Tickets</a>\, at the&nbsp\;Mendocino Coast Chamber office at 217 S Main Street\, Fort Bragg\, and at the venue.<br style="box-sizing: border-box\;" />\n<strong style="box-sizing: border-box\;">Don&#39\;t forget your ID!&nbsp\;</strong><br />\n<br />\n&nbsp\;</p>\n\n<p style="box-sizing: border-box\; margin: 0px 0px 10px\; font-size: 16px\; font-family: Arial\, &quot\;Helvetica Neue&quot\;\, Helvetica\, sans-serif\;"><strong style="box-sizing: border-box\;"><u><strong style="box-sizing: border-box\;">Wine Tasting:</strong></u>&nbsp\;</strong>Over a dozen wineries From Mendocino County come together to pour wine for tasters in Mendocino Village.</p>\n\n<p style="box-sizing: border-box\; margin: 0px 0px 10px\; font-size: 16px\; font-family: Arial\, &quot\;Helvetica Neue&quot\;\, Helvetica\, sans-serif\;"><strong style="box-sizing: border-box\;">When:</strong>&nbsp\;Saturday\, March 3rd from 1:00pm-4:00pm<br style="box-sizing: border-box\;" />\n<strong style="box-sizing: border-box\;">Where:</strong>&nbsp\;Ford House Museum\, 45035 Main St\, Mendocino\, CA 95460&nbsp\;&nbsp\;</p>\n\n<p style="box-sizing: border-box\; margin: 0px 0px 10px\; font-size: 16px\; font-family: Arial\, &quot\;Helvetica Neue&quot\;\, Helvetica\, sans-serif\;">Tickets are $35 pre-sale and can be bought online at&nbsp\;<a href="http://www.brownpapertickets.com/browse.html?keywords=whale+festival+mendocino&amp\;sortby=name%20" style="box-sizing: border-box\; background-color: transparent\; color: rgb(30\, 163\, 194)\; text-decoration: none\;" target="_blank">Brown Paper Tickets</a>&nbsp\;or at the Mendocino Coast Chamber office at 217 S Main Street\, Fort Bragg.&nbsp\;</p>\n\n<p style="box-sizing: border-box\; margin: 0px 0px 10px\; font-size: 16px\; font-family: Arial\, &quot\;Helvetica Neue&quot\;\, Helvetica\, sans-serif\;">You can also purchase your ticket on the date itself for $40\; tickets will be available at the Ford House where you will also be able to pick up your Mendo Whale wine glass/es.<br style="box-sizing: border-box\;" />\n<strong style="box-sizing: border-box\;">Remember to bring your ID!</strong></p>\n
LOCATION:Mendocino Village: Crown Hall for chowder & beer tasting. Ford House to check in for wine tasting.
UID:e.2883.4457
SEQUENCE:3
DTSTAMP:20260423T105549Z
URL:http://mendocinocoast.smartcms.site/events/details/mendocino-whale-festival-4457
END:VEVENT

END:VCALENDAR
