BEGIN:VCALENDAR
VERSION:2.0
PRODID:-//ChamberMaster//Event Calendar 2.0//EN
METHOD:PUBLISH
X-PUBLISHED-TTL:P3D
REFRESH-INTERVAL:P3D
CALSCALE:GREGORIAN
BEGIN:VEVENT
DTSTART:20240302T200000Z
DTEND:20240303T000000Z
X-MICROSOFT-CDO-ALLDAYEVENT:FALSE
SUMMARY:Mendocino Whale Festival
DESCRIPTION:Mendocino Whale Festival
X-ALT-DESC;FMTTYPE=text/html:Mendocino Whale Festival
LOCATION:Free Parking at Hill House Inn. Trolley to take you to the check-in at Rotary Park Inn to pick up wine glass \, wristbands\, map to go around town to sample local Anderson Valley wines and food pairings.
UID:e.2883.23280
SEQUENCE:3
DTSTAMP:20260420T090018Z
URL:http://mendocinocoast.smartcms.site/events/details/mendocino-whale-festival-23280
END:VEVENT

END:VCALENDAR
