BEGIN:VCALENDAR
VERSION:2.0
PRODID:-//ChamberMaster//Event Calendar 2.0//EN
METHOD:PUBLISH
X-PUBLISHED-TTL:P3D
REFRESH-INTERVAL:P3D
CALSCALE:GREGORIAN
BEGIN:VEVENT
DTSTART:20180716T010000Z
DTEND:20180722T160000Z
X-MICROSOFT-CDO-ALLDAYEVENT:FALSE
SUMMARY:Mendocino Sufi Camp
DESCRIPTION:We welcome you to join us\, a community of spiritual friends and seekers from many walks of life\, at the annual Mendocino Sufi Camp\, a warm-hearted and joyful camp for all ages. The Sufi's aim is to remember the Divine in all aspects of life\, and to serve humanity with love and compassion. Toward that goal\, we offer classes and gatherings (yoga\, turning\, singing\, writing\, meditation\, esoteric studies\, and others) as well as fun-filled programs for children\, tweens\, and teens (who are also welcome to delve more deeply in mysticism by attending adult classes). We hold a universalist world view\, which sees and honors the truth in all religions. Click here to view "Mendocino Sufi Camp   A Deep Forest Experience"
X-ALT-DESC;FMTTYPE=text/html:We welcome you to join us\, a community of spiritual friends and seekers from many walks of life\, at the annual Mendocino Sufi Camp\, a warm-hearted and joyful camp for all ages. The Sufi&rsquo\;s aim is to remember the Divine in all aspects of life\, and to serve humanity with love and compassion. Toward that goal\, we offer classes and gatherings (yoga\, turning\, singing\, writing\, meditation\, esoteric studies\, and others) as well as fun-filled programs for children\, tweens\, and teens (who are also welcome to delve more deeply in mysticism by attending adult classes). We hold a universalist world view\, which sees and honors the truth in all religions. Click here to view &ldquo\;Mendocino Sufi Camp &ndash\; A Deep Forest Experience&rdquo\;
LOCATION:Mendocino Woodlands\, 39350 Little Lake Rd\, Mendocino\, CA 95460
UID:e.2883.8770
SEQUENCE:3
DTSTAMP:20260423T040646Z
URL:http://mendocinocoast.smartcms.site/events/details/mendocino-sufi-camp-8770
END:VEVENT

END:VCALENDAR
