BEGIN:VCALENDAR
VERSION:2.0
PRODID:-//ChamberMaster//Event Calendar 2.0//EN
METHOD:PUBLISH
X-PUBLISHED-TTL:P3D
REFRESH-INTERVAL:P3D
CALSCALE:GREGORIAN
BEGIN:VEVENT
DTSTART:20190526T180000Z
DTEND:20190526T210000Z
X-MICROSOFT-CDO-ALLDAYEVENT:FALSE
SUMMARY:Mendocino’s Historic Rose Walk with David Tahja
DESCRIPTION:Enjoy this exclusive guided tour of the historic roses in the town of Mendocino. Roses were a particular passion of Daisy Kelley MacCallum\, eldest daughter of pioneers William and Eliza Kelley\, and many of the roses she planted throughout Mendocino still bloom. Reservations are suggested for this special tour\, led by docent David Tahja. Advance tickets are available at the Kelley House Museum and office for $10. The Rose Walk begins at 11 a.m. and will last about 90 minutes. Suitable for all ages. Meet on the Kelley House east porch\, near the water tower.
X-ALT-DESC;FMTTYPE=text/html:Enjoy this exclusive guided tour of the historic roses in the town of Mendocino. Roses were a particular passion of Daisy Kelley MacCallum\, eldest daughter of pioneers William and Eliza Kelley\, and many of the roses she planted throughout Mendocino still bloom. Reservations are suggested for this special tour\, led by docent David Tahja. Advance tickets are available at the Kelley House Museum and office for $10. The Rose Walk begins at 11 a.m. and will last about 90 minutes. Suitable for all ages. Meet on the Kelley House east porch\, near the water tower.
LOCATION:Kelley House Museum 45007 Albion Street Mendocino\, CA
UID:e.2883.11454
SEQUENCE:3
DTSTAMP:20260422T111412Z
URL:http://mendocinocoast.smartcms.site/events/details/mendocino-s-historic-rose-walk-with-david-tahja-11454
END:VEVENT

END:VCALENDAR
