BEGIN:VCALENDAR
VERSION:2.0
PRODID:-//ChamberMaster//Event Calendar 2.0//EN
METHOD:PUBLISH
X-PUBLISHED-TTL:P3D
REFRESH-INTERVAL:P3D
CALSCALE:GREGORIAN
BEGIN:VEVENT
DTSTART:20170826T150000Z
DTEND:20170826T230000Z
X-MICROSOFT-CDO-ALLDAYEVENT:FALSE
SUMMARY:Mendocino Rotary Golf Tournament
DESCRIPTION:This sell-out event is a favorite tournament for new and returning golfers on the Mendocino Coast!\n\nRegister your team of 4 golfers to compete for prizes and accolades\, enjoy great food and beverages\, and win raffle prizes.\n\nIf you're not a golfer but love our cause\, you can support this event by sponsoring a hole ($50) or an on-course game ($200)\, or by donating a prize to be raffled or auctioned at the event. Contact us for more details!
X-ALT-DESC;FMTTYPE=text/html:<p>This sell-out event is a favorite tournament for new and returning golfers on the Mendocino Coast!</p>\n\n<p>Register your team of 4 golfers to compete for prizes and accolades\, enjoy great food and beverages\, and win raffle prizes.</p>\n\n<p>If you&rsquo\;re not a golfer but love our cause\, you can support this event by sponsoring a hole ($50) or an on-course game ($200)\, or by donating a prize to be raffled or auctioned at the event. Contact us for more details!</p>\n
LOCATION:Little River Inn Golf Course 7751 CA-1 Little River\, CA 95456
UID:e.2883.3775
SEQUENCE:3
DTSTAMP:20260423T232551Z
URL:http://mendocinocoast.smartcms.site/events/details/mendocino-rotary-golf-tournament-3775
END:VEVENT

END:VCALENDAR
