BEGIN:VCALENDAR
VERSION:2.0
PRODID:-//ChamberMaster//Event Calendar 2.0//EN
METHOD:PUBLISH
X-PUBLISHED-TTL:P3D
REFRESH-INTERVAL:P3D
CALSCALE:GREGORIAN
BEGIN:VEVENT
DTSTART;VALUE=DATE:20210924
DTEND;VALUE=DATE:20210927
TRANSP:TRANSPARENT
X-MICROSOFT-CDO-ALLDAYEVENT:TRUE
SUMMARY:Mendocino Open Paint Out - A Plein Air Festival
DESCRIPTION:The Mendocino Art Center welcomes dozens of oil\, pastel\, water media\, acrylic and mixed media artists for the Mendocino Open Paint Out. All events are free and open to the public   wet paint sales and exhibitions\; featured artist demonstrations (donations requested)\; Quick Draw Competition\, Voting and Sale\; the Awards Presentation and Celebration\; and watching the artists paint on location.
X-ALT-DESC;FMTTYPE=text/html:The Mendocino Art Center welcomes dozens of oil\, pastel\, water media\, acrylic and mixed media artists for the Mendocino Open Paint Out. All events are free and open to the public &ndash\; wet paint sales and exhibitions\; featured artist demonstrations (donations requested)\; Quick Draw Competition\, Voting and Sale\; the Awards Presentation and Celebration\; and watching the artists paint on location.
LOCATION:Mendocino Art Center 45200 Little Lake Street
UID:e.2883.13888
SEQUENCE:3
DTSTAMP:20260420T120302Z
URL:http://mendocinocoast.smartcms.site/events/details/mendocino-open-paint-out-a-plein-air-festival-09-24-2021-13888
END:VEVENT

END:VCALENDAR
