BEGIN:VCALENDAR
VERSION:2.0
PRODID:-//ChamberMaster//Event Calendar 2.0//EN
METHOD:PUBLISH
X-PUBLISHED-TTL:P3D
REFRESH-INTERVAL:P3D
CALSCALE:GREGORIAN
BEGIN:VEVENT
DTSTART;VALUE=DATE:20180917
DTEND;VALUE=DATE:20180924
TRANSP:TRANSPARENT
X-MICROSOFT-CDO-ALLDAYEVENT:TRUE
SUMMARY:Mendocino Open Paint Out - A Plein Air Festival
DESCRIPTION:The Mendocino Art Center hosts the sixth annual Mendocino Open Paint Out (MOPO)\, a plein air festival\, welcoming more than 60 artists   working in watermedia\, oil and pastel   visiting from Idaho\, Illinois\, Nevada\, Oregon\, and throughout California. All activities are free and open to the public:   Plein air painting: watch artists paint outdoors all week.   Daily wet paint sales: new paintings each day in the MAC galleries. More than 400 paintings were created in 2017.   Featured artists painting exhibition (opens September 1): MOPO co-founder John Hewitt\, Wendy Brayton\, Ellen Howard\, Suzi Marquess Long\, Will Maller and Dennis Simpson. Reception: September 8\, 5pm to 8pm.   Featured artist demonstrations: September 18-21\, 2pm and 7pm (no demo on Friday\, September 21 at 7pm). Donations requested.   Festive and social evening gatherings at the Mendocino Art Center: Food and drink available\, September 18-20\, 5pm to 7pm.   People's Choice Party: Friday\, September 21\, 7pm to 9pm. See all paintings created during the week and vote for your favorite painting.   Quick Draw Competition and Sale: Saturday\, September 22. Watch the competition\, 11am to 1pm (location to be announced) and then vote for YOUR favorite piece at the Quick Draw Sale\, 2pm to 4pm.   Celebratory Reception and Awards Presentation: Saturday\, September 22\, 4pm to 6pm. Enjoy wine and appetizers and be there for the presentation of more than 25 awards.   Your last chance to buy your favorite painting! The gallery will be open 10am-5pm. Complete schedule at http://www.MendocinoArtCenter.org/pleinair
X-ALT-DESC;FMTTYPE=text/html:The Mendocino Art Center hosts the sixth annual Mendocino Open Paint Out (MOPO)\, a plein air festival\, welcoming more than 60 artists &ndash\; working in watermedia\, oil and pastel &ndash\; visiting from Idaho\, Illinois\, Nevada\, Oregon\, and throughout California. All activities are free and open to the public: &bull\; Plein air painting: watch artists paint outdoors all week. &bull\; Daily wet paint sales: new paintings each day in the MAC galleries. More than 400 paintings were created in 2017. &bull\; Featured artists painting exhibition (opens September 1): MOPO co-founder John Hewitt\, Wendy Brayton\, Ellen Howard\, Suzi Marquess Long\, Will Maller and Dennis Simpson. Reception: September 8\, 5pm to 8pm. &bull\; Featured artist demonstrations: September 18-21\, 2pm and 7pm (no demo on Friday\, September 21 at 7pm). Donations requested. &bull\; Festive and social evening gatherings at the Mendocino Art Center: Food and drink available\, September 18-20\, 5pm to 7pm. &bull\; People&#39\;s Choice Party: Friday\, September 21\, 7pm to 9pm. See all paintings created during the week and vote for your favorite painting. &bull\; Quick Draw Competition and Sale: Saturday\, September 22. Watch the competition\, 11am to 1pm (location to be announced) and then vote for YOUR favorite piece at the Quick Draw Sale\, 2pm to 4pm. &bull\; Celebratory Reception and Awards Presentation: Saturday\, September 22\, 4pm to 6pm. Enjoy wine and appetizers and be there for the presentation of more than 25 awards. &bull\; Your last chance to buy your favorite painting! The gallery will be open 10am-5pm. Complete schedule at http://www.MendocinoArtCenter.org/pleinair
LOCATION:Mendocino Art Center 45200 Little Lake Street\, Mendocino
UID:e.2883.9360
SEQUENCE:3
DTSTAMP:20260423T003933Z
URL:http://mendocinocoast.smartcms.site/events/details/mendocino-open-paint-out-a-plein-air-festival-09-17-2018-9360
END:VEVENT

END:VCALENDAR
