BEGIN:VCALENDAR
VERSION:2.0
PRODID:-//ChamberMaster//Event Calendar 2.0//EN
METHOD:PUBLISH
X-PUBLISHED-TTL:P3D
REFRESH-INTERVAL:P3D
CALSCALE:GREGORIAN
BEGIN:VEVENT
DTSTART;VALUE=DATE:20190916
DTEND;VALUE=DATE:20190923
TRANSP:TRANSPARENT
X-MICROSOFT-CDO-ALLDAYEVENT:TRUE
SUMMARY:Mendocino Open Paint Out - A Plein Air Festival
DESCRIPTION:Mendocino Art Center hosts the seventh annual Mendocino Open Paint Out\, a plein air festival. Watch featured artists paint en plein air\, and attend daily wet paint sales and demonstrations\, the People's Choice Party\, a Quick Draw competition and sale\, a celebratory awards reception\, and more.
X-ALT-DESC;FMTTYPE=text/html:Mendocino Art Center hosts the seventh annual Mendocino Open Paint Out\, a plein air festival. Watch featured artists paint en plein air\, and attend daily wet paint sales and demonstrations\, the People&rsquo\;s Choice Party\, a Quick Draw competition and sale\, a celebratory awards reception\, and more.
LOCATION:Mendocino Art Center 45200 Little Lake Street Mendocino
UID:e.2883.11460
SEQUENCE:3
DTSTAMP:20260422T043611Z
URL:http://mendocinocoast.smartcms.site/events/details/mendocino-open-paint-out-a-plein-air-festival-09-16-2019-11460
END:VEVENT

END:VCALENDAR
