BEGIN:VCALENDAR
VERSION:2.0
PRODID:-//ChamberMaster//Event Calendar 2.0//EN
METHOD:PUBLISH
X-PUBLISHED-TTL:P3D
REFRESH-INTERVAL:P3D
CALSCALE:GREGORIAN
BEGIN:VEVENT
DTSTART:20210721T023000Z
DTEND:20210721T033000Z
X-MICROSOFT-CDO-ALLDAYEVENT:FALSE
SUMMARY:Mendocino Music Festival STEPHEN PRUTSMAN
DESCRIPTION:An enthusiast of the "Progressive" or "Art Rock" genre\, and a performer in a couple of "Prog Rock" bands in the late 70s\, Stephen Prutsman has been drawn to create solo piano (and fiendishly difficult) transcriptions of several Prog classics. For this short recital he's chosen "Sound Chaser" by YES and GENESIS' "Supper's Ready." These rich tapestries of sonic innovation make for an unusual and unique pairing with the music of another great progressive thinker and composer\, J.S. Bach.
X-ALT-DESC;FMTTYPE=text/html:An enthusiast of the &ldquo\;Progressive&rdquo\; or &ldquo\;Art Rock&rdquo\; genre\, and a performer in a couple of &ldquo\;Prog Rock&rdquo\; bands in the late 70s\, Stephen Prutsman has been drawn to create solo piano (and fiendishly difficult) transcriptions of several Prog classics. For this short recital he&rsquo\;s chosen &ldquo\;Sound Chaser&rdquo\; by YES and GENESIS&rsquo\; &ldquo\;Supper&rsquo\;s Ready.&rdquo\; These rich tapestries of sonic innovation make for an unusual and unique pairing with the music of another great progressive thinker and composer\, J.S. Bach.
LOCATION:Cotton Auditorium\, 500 N. Harold Street\, Fort Bragg\, CA 95437
UID:e.2883.13577
SEQUENCE:3
DTSTAMP:20260420T162442Z
URL:http://mendocinocoast.smartcms.site/events/details/mendocino-music-festival-stephen-prutsman-13577
END:VEVENT

END:VCALENDAR
