BEGIN:VCALENDAR
VERSION:2.0
PRODID:-//ChamberMaster//Event Calendar 2.0//EN
METHOD:PUBLISH
X-PUBLISHED-TTL:P3D
REFRESH-INTERVAL:P3D
CALSCALE:GREGORIAN
BEGIN:VEVENT
DTSTART:20210723T023000Z
DTEND:20210723T033000Z
X-MICROSOFT-CDO-ALLDAYEVENT:FALSE
SUMMARY:Mendocino Music Festival LAURIE LEWIS AND THE RIGHT HANDS
DESCRIPTION:Grammy Award-winning musician Laurie Lewis is internationally renowned as a singer\, songwriter\, fiddler\, bandleader\, producer and educator. Twice voted "Female Vocalist of the Year" by the International Bluegrass Music Association\, the traditions of bluegrass and folk aren't so much tools in her hands as burning sources of inspiration that have driven her through a thirty-plus year career at the forefront of American roots music.
X-ALT-DESC;FMTTYPE=text/html:Grammy Award-winning musician Laurie Lewis is internationally renowned as a singer\, songwriter\, fiddler\, bandleader\, producer and educator. Twice voted &ldquo\;Female Vocalist of the Year&rdquo\; by the International Bluegrass Music Association\, the traditions of bluegrass and folk aren&rsquo\;t so much tools in her hands as burning sources of inspiration that have driven her through a thirty-plus year career at the forefront of American roots music.
LOCATION:Cotton Auditorium\, 500 N. Harold Street\, Fort Bragg\, CA 95437
UID:e.2883.13579
SEQUENCE:3
DTSTAMP:20260420T162055Z
URL:http://mendocinocoast.smartcms.site/events/details/mendocino-music-festival-laurie-lewis-and-the-right-hands-13579
END:VEVENT

END:VCALENDAR
