BEGIN:VCALENDAR
VERSION:2.0
PRODID:-//ChamberMaster//Event Calendar 2.0//EN
METHOD:PUBLISH
X-PUBLISHED-TTL:P3D
REFRESH-INTERVAL:P3D
CALSCALE:GREGORIAN
BEGIN:VEVENT
DTSTART:20181108T010000Z
DTEND:20181108T043000Z
X-MICROSOFT-CDO-ALLDAYEVENT:FALSE
SUMMARY:Mendocino Music Festival Dine Out
DESCRIPTION:On November 7\, treat yourself and your friends to an evening in the cozy ambiance of the beautiful MacCallum House Restaurant and Gray Whale Bar. Enjoy a sumptuous meal in the dining room\, or lighter fare in the sunroom caf \; all are delectable dishes created from organic\, sustainable and locally-sourced foods\, complemented by handcrafted artisanal cocktails and selections from their celebrated wine list. A generous portion of the proceeds of the evening benefit the Mendocino Music Festival\, now busily laying the groundwork for its 2019 season. To reserve your place go to mendocinomusic.org or call 937-0289.
X-ALT-DESC;FMTTYPE=text/html:On November 7\, treat yourself and your friends to an evening in the cozy ambiance of the beautiful MacCallum House Restaurant and Gray Whale Bar. Enjoy a sumptuous meal in the dining room\, or lighter fare in the sunroom caf&eacute\;\; all are delectable dishes created from organic\, sustainable and locally-sourced foods\, complemented by handcrafted artisanal cocktails and selections from their celebrated wine list. A generous portion of the proceeds of the evening benefit the Mendocino Music Festival\, now busily laying the groundwork for its 2019 season. To reserve your place go to mendocinomusic.org or call 937-0289.
LOCATION:MacCallum House Inn and Restaurant 45020 Albion St. Mendocino\, CA 95460
UID:e.2883.10332
SEQUENCE:3
DTSTAMP:20260422T210932Z
URL:http://mendocinocoast.smartcms.site/events/details/mendocino-music-festival-dine-out-10332
END:VEVENT

END:VCALENDAR
