BEGIN:VCALENDAR
VERSION:2.0
PRODID:-//ChamberMaster//Event Calendar 2.0//EN
METHOD:PUBLISH
X-PUBLISHED-TTL:P3D
REFRESH-INTERVAL:P3D
CALSCALE:GREGORIAN
BEGIN:VEVENT
DTSTART;VALUE=DATE:20170708
DTEND;VALUE=DATE:20170723
TRANSP:TRANSPARENT
X-MICROSOFT-CDO-ALLDAYEVENT:TRUE
SUMMARY:Mendocino Music Festival
DESCRIPTION:Please join us for glorious music in an extraordinary variety of genres - symphonic\, chamber\, opera\, jazz\, Cajun\, American roots\, world\, and more. Whatever your musical tastes\, prepare to be delighted. And what could be a more inspiring location for listening than the edge of the Pacific Ocean\, surrounded by redwoods\, art galleries\, charming shops\, uncrowded state parks\, award-winning wineries and craft breweries\, cozy inns and excellent restaurants.
X-ALT-DESC;FMTTYPE=text/html:<p style="margin: 0px\; border: 0px none\; padding: 0px\; font-family: Verdana\, Arial\; font-size: 11px\;"><span style="font-family: Verdana\, Arial\; font-size: small\; text-align: center\;">Please join us for glorious music in an extraordinary variety of genres - symphonic\, chamber\, opera\, jazz\, Cajun\, American roots\, world\, and more. Whatever your musical tastes\, prepare to be delighted. And what could be a more inspiring location for listening than the edge of the Pacific Ocean\, surrounded by redwoods\, art galleries\, charming shops\, uncrowded state parks\, award-winning wineries and craft breweries\, cozy inns and excellent restaurants.</span></p>\n
LOCATION:Festival tent and other various locations in Mendocino. See catalog for details.
UID:e.2883.1265
SEQUENCE:3
DTSTAMP:20260424T011717Z
URL:http://mendocinocoast.smartcms.site/events/details/mendocino-music-festival-1265
END:VEVENT

END:VCALENDAR
