BEGIN:VCALENDAR
VERSION:2.0
PRODID:-//ChamberMaster//Event Calendar 2.0//EN
METHOD:PUBLISH
X-PUBLISHED-TTL:P3D
REFRESH-INTERVAL:P3D
CALSCALE:GREGORIAN
BEGIN:VEVENT
DTSTART:20180329T000000Z
DTEND:20180329T033000Z
X-MICROSOFT-CDO-ALLDAYEVENT:FALSE
SUMMARY:Mendocino K8 Sixth Grade Fundraiser Dine Out
DESCRIPTION:Support the kids in attending the outdoor school at the Mendocino Woodlands in June. All profits from the evening will benefit the kids!
X-ALT-DESC;FMTTYPE=text/html:<span style="color: rgb(0\, 0\, 0)\; font-family: Helvetica\; font-size: 14px\; text-size-adjust: auto\;">Support the kids in attending the outdoor school at the Mendocino Woodlands in June.&nbsp\;All profits from the evening will benefit the kids!</span>
LOCATION:MacCallum House Inn reservations: 937-0289
UID:e.2883.5588
SEQUENCE:3
DTSTAMP:20260423T105551Z
URL:http://mendocinocoast.smartcms.site/events/details/mendocino-k8-sixth-grade-fundraiser-dine-out-5588
END:VEVENT

END:VCALENDAR
